BEGIN:VCALENDAR
VERSION:2.0
PRODID:-//Super Natural Center - ECPv6.15.20//NONSGML v1.0//EN
CALSCALE:GREGORIAN
METHOD:PUBLISH
X-WR-CALNAME:Super Natural Center
X-ORIGINAL-URL:https://supernaturalcenter.nl
X-WR-CALDESC:Events for Super Natural Center
REFRESH-INTERVAL;VALUE=DURATION:PT1H
X-Robots-Tag:noindex
X-PUBLISHED-TTL:PT1H
BEGIN:VTIMEZONE
TZID:Europe/Amsterdam
BEGIN:DAYLIGHT
TZOFFSETFROM:+0100
TZOFFSETTO:+0200
TZNAME:CEST
DTSTART:20250330T010000
END:DAYLIGHT
BEGIN:STANDARD
TZOFFSETFROM:+0200
TZOFFSETTO:+0100
TZNAME:CET
DTSTART:20251026T010000
END:STANDARD
BEGIN:DAYLIGHT
TZOFFSETFROM:+0100
TZOFFSETTO:+0200
TZNAME:CEST
DTSTART:20260329T010000
END:DAYLIGHT
BEGIN:STANDARD
TZOFFSETFROM:+0200
TZOFFSETTO:+0100
TZNAME:CET
DTSTART:20261025T010000
END:STANDARD
BEGIN:DAYLIGHT
TZOFFSETFROM:+0100
TZOFFSETTO:+0200
TZNAME:CEST
DTSTART:20270328T010000
END:DAYLIGHT
BEGIN:STANDARD
TZOFFSETFROM:+0200
TZOFFSETTO:+0100
TZNAME:CET
DTSTART:20271031T010000
END:STANDARD
END:VTIMEZONE
BEGIN:VEVENT
DTSTART;TZID=Europe/Amsterdam:20260413T200000
DTEND;TZID=Europe/Amsterdam:20260413T204500
DTSTAMP:20260421T230036
CREATED:20260318T163131Z
LAST-MODIFIED:20260318T163200Z
UID:5264-1776110400-1776113100@supernaturalcenter.nl
SUMMARY:Tikva 13 april (online/studio)
DESCRIPTION:Leuk dat je een Tikva® sessie gaat volgen! Reserveer direct je plek: in de studio of online. \nSessie in de studio \nLocatie: Patrimonium\, Lange Breestraat 26\, Dordrecht\nParkeren: Parkeergarage Visstraat (2 min lopen) \nTarieven:\n– Losse sessie: € 12\,50\n– Eerste proefles: € 7\,50 (gebruik code PROEFLES-TIKVA01)\n– Strippenkaart : € 112\,50 (10 sessies\, 6 maanden geldig)→ 1 sessie gratis\n– Jaarabonnement: € 32\,50 per maand (minimaal 1 jaar. Voordeligste keuze)\n– Bekijk in de shop \nZo gebruik je je proeflescode:\n1. Klik op “+” bij de gewenste sessie\n2. Klik op “Check out now”\n3. Klik op “Have a coupon?”\n4. Vul in: PROEFLES-TIKVA01 \nAanvullend:\n– Koop je ticket voor 18:00 uur.\n– Later bestellen?  Bestel via whatsapp.\n– Afmelden: uiterlijk 24 uur van tevoren via WhatsApp. \nMeenemen: handdoek en sportmatje (eventueel dekentje en kussentje\, beperkt aanwezig). \n  \nOnline sessie \n– Ticket kopen voor 17:00 uur → link via e-mail maandag voor 20:00 uur\n– Later bestellen? Bestel via whatsapp\n– Live via YouTube + 1 week terugkijken\n– Prijs: € 7\,50\n– Jaarabonnement: € 20 per maand (minimaal 1 jaar)\n– Bekijk in de shop \n  \n  \nIk kijk ernaar uit je te zien in een Tikva® sessie! \nKlik hieronder op de + om je plek te reserveren. \nLees de Disclaimer hier: Disclaimer \n 
URL:https://supernaturalcenter.nl/evenement/tikva-13-april-online-studio/
LOCATION:Patrimonium\, Langs Breestraat 26\, Dordrecht\, 3311 ND\, Netherlands
CATEGORIES:Workshop
ATTACH;FMTTYPE=image/jpeg:https://supernaturalcenter.nl/wp-content/uploads/2026/01/BD4A1200-scaled.jpg
END:VEVENT
END:VCALENDAR