BEGIN:VCALENDAR
VERSION:2.0
PRODID:-//Super Natural Center - ECPv6.15.20//NONSGML v1.0//EN
CALSCALE:GREGORIAN
METHOD:PUBLISH
X-ORIGINAL-URL:https://supernaturalcenter.nl
X-WR-CALDESC:Events for Super Natural Center
REFRESH-INTERVAL;VALUE=DURATION:PT1H
X-Robots-Tag:noindex
X-PUBLISHED-TTL:PT1H
BEGIN:VTIMEZONE
TZID:Europe/Helsinki
BEGIN:DAYLIGHT
TZOFFSETFROM:+0200
TZOFFSETTO:+0300
TZNAME:EEST
DTSTART:20200329T010000
END:DAYLIGHT
BEGIN:STANDARD
TZOFFSETFROM:+0300
TZOFFSETTO:+0200
TZNAME:EET
DTSTART:20201025T010000
END:STANDARD
BEGIN:DAYLIGHT
TZOFFSETFROM:+0200
TZOFFSETTO:+0300
TZNAME:EEST
DTSTART:20210328T010000
END:DAYLIGHT
BEGIN:STANDARD
TZOFFSETFROM:+0300
TZOFFSETTO:+0200
TZNAME:EET
DTSTART:20211031T010000
END:STANDARD
BEGIN:DAYLIGHT
TZOFFSETFROM:+0200
TZOFFSETTO:+0300
TZNAME:EEST
DTSTART:20220327T010000
END:DAYLIGHT
BEGIN:STANDARD
TZOFFSETFROM:+0300
TZOFFSETTO:+0200
TZNAME:EET
DTSTART:20221030T010000
END:STANDARD
END:VTIMEZONE
BEGIN:VEVENT
DTSTART;TZID=Europe/Helsinki:20211117T190000
DTEND;TZID=Europe/Helsinki:20211117T220000
DTSTAMP:20260421T202509
CREATED:20211005T112320Z
LAST-MODIFIED:20211116T183221Z
UID:1137-1637175600-1637186400@supernaturalcenter.nl
SUMMARY:Workshop natuurlijke cosmetica
DESCRIPTION:  \nZelf je beauty producten maken is niet alleen leuk\, het is veel makkelijker dan je denkt! \nDeze workshops zijn er voor iedereen die zijn eigen verzorgingsproducten wil maken\, volledig natuurlijk en afgestemd op jouw huid of haar. \nJe leert 3 producten maken op basis van fijne biologische oliën\, boters\, bloemenextracten en plantenpoeders en je neemt ze na afloop mee naar huis\, samen met de recepten. \nWat gaan we deze keer maken? \n– Verzorgende dagcrème \n– Verfrissende gezichtsreiniger \n– Voedend serum \n  \nAlles om jouw huid te laten stralen! \n  \nLocatie: Super Natural Center\, Grotekerksbuurt 44 Dordrecht \nKosten: €75\,- (incl koffie/thee en lekkers) \nDatum: 17 november 2021 \nTijd: inloop 19:00\, start 19:30 tot 22:00
URL:https://supernaturalcenter.nl/evenement/workshop-natuurlijke-cosmetica-5/
LOCATION:Super Natural Center\, Grotekerksbuurt 22\, Dordrecht\, zuid holland\, 3311CB\, Netherlands
CATEGORIES:Cosmetica
ATTACH;FMTTYPE=image/jpeg:https://supernaturalcenter.nl/wp-content/uploads/2021/09/Natuurlijke-Cosmetica-Workshop.jpg
END:VEVENT
BEGIN:VEVENT
DTSTART;TZID=Europe/Helsinki:20211027T091500
DTEND;TZID=Europe/Helsinki:20211027T113000
DTSTAMP:20260421T202509
CREATED:20211005T111208Z
LAST-MODIFIED:20211025T112931Z
UID:1125-1635326100-1635334200@supernaturalcenter.nl
SUMMARY:Workshop natuurlijke cosmetica - gaat wegens omstandigheden niet door
DESCRIPTION:Zelf je beauty producten maken is niet alleen leuk\, het is veel makkelijker dan je denkt! \nDeze workshops zijn er voor iedereen die zijn eigen verzorgingsproducten wil maken\, volledig natuurlijk en afgestemd op jouw huid of haar. \nJe leert 2 producten maken op basis van fijne biologische oliën\, boters\, bloemenextracten en plantenpoeders en je neemt ze na afloop mee naar huis\, samen met de recepten. \nWat gaan we deze keer maken? \n– Verzorgende dagcrème\, 40 ml \n– Verfrissende shampoo bar\, 50 gram \n  \nAlles om jouw huid en haar te laten stralen! \n  \nLocatie: Super Natural Center\, Grotekerksbuurt 44 Dordrecht \nKosten: €60\,- (incl koffie/thee en lekkers) \nDatum: 27 oktober 2021 \nTijd: inloop 09:15\, begin 9:30 tot 11:30
URL:https://supernaturalcenter.nl/evenement/workshop-natuurlijk-cosmetica/
LOCATION:Super Natural Center\, Grotekerksbuurt 22\, Dordrecht\, zuid holland\, 3311CB\, Netherlands
CATEGORIES:Cosmetica
ATTACH;FMTTYPE=image/jpeg:https://supernaturalcenter.nl/wp-content/uploads/2021/09/Natuurlijke-Cosmetica-Workshop.jpg
END:VEVENT
BEGIN:VEVENT
DTSTART;TZID=Europe/Helsinki:20211019T190000
DTEND;TZID=Europe/Helsinki:20211019T220000
DTSTAMP:20260421T202509
CREATED:20211005T105652Z
LAST-MODIFIED:20211005T151521Z
UID:1120-1634670000-1634680800@supernaturalcenter.nl
SUMMARY:Workshop natuurlijke cosmetica
DESCRIPTION:Zelf je beauty producten maken is niet alleen leuk\, het is veel makkelijker dan je denkt! \nDeze workshops zijn er voor iedereen die zijn eigen verzorgingsproducten wil maken\, volledig natuurlijk en afgestemd op jouw huid of haar. \nJe leert 3 producten maken op basis van fijne biologische oliën\, boters\, bloemenextracten en plantenpoeders en je neemt ze na afloop mee naar huis\, samen met de recepten. \nWat gaan we deze keer maken? \n– Verzorgende dagcrème\, 40 ml \n– Verfrissende gezichtsreiniger\, 100 ml \n– Voedend serum\, 50 ml \n  \nAlles om jouw huid te laten stralen! \n  \nLocatie: Super Natural Center\, Grotekerksbuurt 44 Dordrecht \nKosten: €75\,- (incl koffie/thee en lekkers) \nDatum: 19 oktober 2021 \nTijd: inloop 19:00\, start 19:30 tot 22:00
URL:https://supernaturalcenter.nl/evenement/workshop-natuurlijke-cosmetica-2/
LOCATION:Super Natural Center\, Grotekerksbuurt 22\, Dordrecht\, zuid holland\, 3311CB\, Netherlands
CATEGORIES:Cosmetica
ATTACH;FMTTYPE=image/jpeg:https://supernaturalcenter.nl/wp-content/uploads/2021/09/Natuurlijke-Cosmetica-Workshop.jpg
END:VEVENT
BEGIN:VEVENT
DTSTART;TZID=Europe/Helsinki:20210929T193000
DTEND;TZID=Europe/Helsinki:20210929T220000
DTSTAMP:20260421T202509
CREATED:20210912T174448Z
LAST-MODIFIED:20210914T082519Z
UID:1063-1632943800-1632952800@supernaturalcenter.nl
SUMMARY:Workshop natuurlijke cosmetica
DESCRIPTION:Zelf je beauty producten maken is niet alleen leuk\, het is veel makkelijker dan je denkt! \nDeze workshops zijn er voor iedereen die zijn eigen verzorgingsproducten wil maken\, volledig natuurlijk en afgestemd op jouw huid of haar. \nJe leert 3 producten maken op basis van fijne biologische oliën\, boters bloemenextracten en plantenpoeders en je neemt ze na afloop mee naar huis\, samen met de recepten. \nWat gaan we deze keer maken? \n– Verzorgende dagcrème \n– Verfrissende gezichtsreiniger \n– Voedend serum \n  \nAlles om jouw huid te laten stralen! \n  \nLocatie: Super Natural Center\, Grotekerksbuurt 44 Dordrecht \nKosten: €75\,- (incl koffie/thee en lekkers) \nDatum: 29 september 2021 \nTijd: inloop 19:00\, start 19:30 tot 22:00 \n  \nBestel je tickets via: supernaturalcenter.nl/evenementen \nVragen: gerlindt@myrtezuiver.nl
URL:https://supernaturalcenter.nl/evenement/workshop-natuurlijke-cosmetica/
LOCATION:Super Natural Center\, Grotekerksbuurt 22\, Dordrecht\, zuid holland\, 3311CB\, Netherlands
CATEGORIES:Cosmetica,Workshop
ATTACH;FMTTYPE=image/jpeg:https://supernaturalcenter.nl/wp-content/uploads/2021/09/Natuurlijke-Cosmetica-Workshop.jpg
END:VEVENT
END:VCALENDAR